BEGIN:VCALENDAR
VERSION:2.0
PRODID:-//Joseph Sowa - ECPv6.15.12.2//NONSGML v1.0//EN
CALSCALE:GREGORIAN
METHOD:PUBLISH
X-WR-CALNAME:Joseph Sowa
X-ORIGINAL-URL:https://josephsowa.com
X-WR-CALDESC:Events for Joseph Sowa
REFRESH-INTERVAL;VALUE=DURATION:PT1H
X-Robots-Tag:noindex
X-PUBLISHED-TTL:PT1H
BEGIN:VTIMEZONE
TZID:America/New_York
BEGIN:DAYLIGHT
TZOFFSETFROM:-0500
TZOFFSETTO:-0400
TZNAME:EDT
DTSTART:20220313T070000
END:DAYLIGHT
BEGIN:STANDARD
TZOFFSETFROM:-0400
TZOFFSETTO:-0500
TZNAME:EST
DTSTART:20221106T060000
END:STANDARD
BEGIN:DAYLIGHT
TZOFFSETFROM:-0500
TZOFFSETTO:-0400
TZNAME:EDT
DTSTART:20230312T070000
END:DAYLIGHT
BEGIN:STANDARD
TZOFFSETFROM:-0400
TZOFFSETTO:-0500
TZNAME:EST
DTSTART:20231105T060000
END:STANDARD
BEGIN:DAYLIGHT
TZOFFSETFROM:-0500
TZOFFSETTO:-0400
TZNAME:EDT
DTSTART:20240310T070000
END:DAYLIGHT
BEGIN:STANDARD
TZOFFSETFROM:-0400
TZOFFSETTO:-0500
TZNAME:EST
DTSTART:20241103T060000
END:STANDARD
END:VTIMEZONE
BEGIN:VEVENT
DTSTART;TZID=America/New_York:20230807T193000
DTEND;TZID=America/New_York:20230807T193000
DTSTAMP:20260422T113418
CREATED:20240307T001100Z
LAST-MODIFIED:20240307T001100Z
UID:7506-1691436600-1691436600@josephsowa.com
SUMMARY:Nana's Waltz / Konstantin Soukhovetski
DESCRIPTION:Konstantin Soukhovetski\, piano
URL:https://josephsowa.com/performances/nanas-waltz-konstantin-soukhovetski/
LOCATION:St. Peter’s Episcopal Church\, Parish Hall\, 334 14th St\, Del Mar\, CA\, 92014\, United States
CATEGORIES:World Premiere
END:VEVENT
END:VCALENDAR